BEGIN:VCALENDAR
VERSION:2.0
PRODID:-//Topiary Blush Website - ECPv6.15.20//NONSGML v1.0//EN
CALSCALE:GREGORIAN
METHOD:PUBLISH
X-ORIGINAL-URL:https://topiaryblush.com
X-WR-CALDESC:Events for Topiary Blush Website
REFRESH-INTERVAL;VALUE=DURATION:PT1H
X-Robots-Tag:noindex
X-PUBLISHED-TTL:PT1H
BEGIN:VTIMEZONE
TZID:UTC
BEGIN:STANDARD
TZOFFSETFROM:+0000
TZOFFSETTO:+0000
TZNAME:UTC
DTSTART:20240101T000000
END:STANDARD
END:VTIMEZONE
BEGIN:VEVENT
DTSTART;TZID=UTC:20250915T183000
DTEND;TZID=UTC:20250915T220000
DTSTAMP:20260421T035114
CREATED:20250903T145053Z
LAST-MODIFIED:20250903T145054Z
UID:290-1757961000-1757973600@topiaryblush.com
SUMMARY:Pinched.\, Willingdone\, & Topiary Blush
DESCRIPTION:
URL:https://topiaryblush.com/event/pinched-willingdone-topiary-blush/
LOCATION:Zhora Darling\, 509 FIRST AVE NE\, Minneapolis\, Minnesota\, 55413
END:VEVENT
BEGIN:VEVENT
DTSTART;TZID=UTC:20260523T203000
DTEND;TZID=UTC:20260523T230000
DTSTAMP:20260421T035114
CREATED:20260415T160846Z
LAST-MODIFIED:20260415T160913Z
UID:304-1779568200-1779577200@topiaryblush.com
SUMMARY:White Squirrel Bar - Lineup TBD
DESCRIPTION:Topiary Blush at White Squirrel with Thomas Richey\, and (TBD)
URL:https://topiaryblush.com/event/white-squirrel-bar-lineup-tbd/
END:VEVENT
BEGIN:VEVENT
DTSTART;TZID=UTC:20260626T210000
DTEND;TZID=UTC:20260626T233000
DTSTAMP:20260421T035114
CREATED:20260415T181901Z
LAST-MODIFIED:20260415T181902Z
UID:307-1782507600-1782516600@topiaryblush.com
SUMMARY:The Underground Music Venue
DESCRIPTION:TIME TBD – With: Willingdone\, Thomas Richey
URL:https://topiaryblush.com/event/the-underground-music-venue/
END:VEVENT
END:VCALENDAR